BEGIN:VCALENDAR
VERSION:2.0
PRODID:-//Abbeyleix Parish | Kildare &amp; Leighlin Diocese - ECPv6.15.20//NONSGML v1.0//EN
CALSCALE:GREGORIAN
METHOD:PUBLISH
X-ORIGINAL-URL:https://abbeyleixparish.ie
X-WR-CALDESC:Events for Abbeyleix Parish | Kildare &amp; Leighlin Diocese
REFRESH-INTERVAL;VALUE=DURATION:PT1H
X-Robots-Tag:noindex
X-PUBLISHED-TTL:PT1H
BEGIN:VTIMEZONE
TZID:UTC
BEGIN:STANDARD
TZOFFSETFROM:+0000
TZOFFSETTO:+0000
TZNAME:UTC
DTSTART:20180101T000000
END:STANDARD
END:VTIMEZONE
BEGIN:VEVENT
DTSTART;TZID=UTC:20240419T080000
DTEND;TZID=UTC:20240419T170000
DTSTAMP:20260421T144009
CREATED:20240419T095959Z
LAST-MODIFIED:20240419T100000Z
UID:10000014-1713513600-1713546000@abbeyleixparish.ie
SUMMARY:First Holy Communion 2024
DESCRIPTION:20th April – Abbeyleix Church of the Most Holy Rosary at 11am \n20th April – Raheen St Fintan’s Church at 12 noon \n20th April – Ballyroan St Patricks Church at 2pm \n20th April – Shanahoe St Brigid’s Church at 2pm \n25th April – Ballinakill St Brigid’s Church at 12 noon \n 
URL:https://abbeyleixparish.ie/event/first-holy-communion-2024/
END:VEVENT
BEGIN:VEVENT
DTSTART;TZID=UTC:20230407T170000
DTEND;TZID=UTC:20230407T170000
DTSTAMP:20260421T144009
CREATED:20230407T080802Z
LAST-MODIFIED:20230407T080918Z
UID:10000013-1680886800-1680886800@abbeyleixparish.ie
SUMMARY:Holy Saturday Family Mass April 8th 2023 at 5pm
DESCRIPTION:Fr. Paddy extends a very warm welcome to all families and children for this Holy Saturday (April 8th) Mass in the Church of the Most Holy Rosary\, Abbeyleix in celebration of Easter. \nWe look forward to seeing you there.
URL:https://abbeyleixparish.ie/event/holy-saturday-family-mass-april-8th-2023-at-5pm/
END:VEVENT
BEGIN:VEVENT
DTSTART;TZID=UTC:20220629T080000
DTEND;TZID=UTC:20220629T170000
DTSTAMP:20260421T144009
CREATED:20220629T152531Z
LAST-MODIFIED:20220629T152623Z
UID:10000012-1656489600-1656522000@abbeyleixparish.ie
SUMMARY:Raheen Cemetery Mass
DESCRIPTION:Raheen Cemetery Mass will take place on Saturday July 2nd 2022 at 7pm. \nAll Welcome
URL:https://abbeyleixparish.ie/event/raheen-cemetery-mass-2/
END:VEVENT
BEGIN:VEVENT
DTSTART;TZID=UTC:20220629T080000
DTEND;TZID=UTC:20220629T170000
DTSTAMP:20260421T144009
CREATED:20220629T152411Z
LAST-MODIFIED:20220629T152412Z
UID:10000011-1656489600-1656522000@abbeyleixparish.ie
SUMMARY:Raheen Cemetery Mass
DESCRIPTION:Raheen Cemetery Mass will take place on Saturday July 2nd\, 2022 at 7pm.
URL:https://abbeyleixparish.ie/event/raheen-cemetery-mass/
END:VEVENT
BEGIN:VEVENT
DTSTART;TZID=UTC:20200307T140000
DTEND;TZID=UTC:20200307T140000
DTSTAMP:20260421T144009
CREATED:20191205T104346Z
LAST-MODIFIED:20191205T104346Z
UID:10000003-1583589600-1583589600@abbeyleixparish.ie
SUMMARY:Confirmation\, Ballyroan
DESCRIPTION:
URL:https://abbeyleixparish.ie/event/confirmation-ballyroan/
END:VEVENT
BEGIN:VEVENT
DTSTART;TZID=UTC:20200307T110000
DTEND;TZID=UTC:20200307T110000
DTSTAMP:20260421T144009
CREATED:20191205T095055Z
LAST-MODIFIED:20191205T104241Z
UID:10000002-1583578800-1583578800@abbeyleixparish.ie
SUMMARY:Confirmation\, Abbeyleix
DESCRIPTION:
URL:https://abbeyleixparish.ie/event/confirmation/
END:VEVENT
BEGIN:VEVENT
DTSTART;TZID=UTC:20200216T150000
DTEND;TZID=UTC:20200216T150000
DTSTAMP:20260421T144009
CREATED:20200204T105445Z
LAST-MODIFIED:20200227T102254Z
UID:10000010-1581865200-1581865200@abbeyleixparish.ie
SUMMARY:Celebrating the Feast of St. Fintan
DESCRIPTION:This is a wonderful opportunity to celebrate Christian heritage for the people of Laois. \nHomily will be given by Mons. Caoimhin O’Neill at St Fintans Well in Cromogue at 3pm on Sunday February 16th. \nAll are welcome to what promises to be a wonderful afternoon.
URL:https://abbeyleixparish.ie/event/celebrating-the-feast-of-st-fintan/
END:VEVENT
BEGIN:VEVENT
DTSTART;VALUE=DATE:20191225
DTEND;VALUE=DATE:20191226
DTSTAMP:20260421T144009
CREATED:20191218T145233Z
LAST-MODIFIED:20191218T145304Z
UID:10000008-1577232000-1577318399@abbeyleixparish.ie
SUMMARY:Christmas Day Mass
DESCRIPTION:St Patricks Church\, Ballyroan – 9.30am\nChurch of the Most Holy Rosary\, Abbeyleix – 11am
URL:https://abbeyleixparish.ie/event/christmas-day-mass/
END:VEVENT
BEGIN:VEVENT
DTSTART;VALUE=DATE:20191224
DTEND;VALUE=DATE:20191225
DTSTAMP:20260421T144009
CREATED:20191218T144834Z
LAST-MODIFIED:20191218T145355Z
UID:10000007-1577145600-1577231999@abbeyleixparish.ie
SUMMARY:Christmas Eve Mass
DESCRIPTION:Childrens Mass in Church of the Most Holy Rosary – 3pm.\nChurch of the Most Holy Rosary – 7.30pm.\nSt Patricks Church Ballyroan – 6pm.
URL:https://abbeyleixparish.ie/event/christmas-eve-mass/
END:VEVENT
BEGIN:VEVENT
DTSTART;TZID=UTC:20191222T160000
DTEND;TZID=UTC:20191222T160000
DTSTAMP:20260421T144009
CREATED:20191218T144604Z
LAST-MODIFIED:20191218T144657Z
UID:10000006-1577030400-1577030400@abbeyleixparish.ie
SUMMARY:Christmas Carol Service
DESCRIPTION:Church of the Most Holy Rosary
URL:https://abbeyleixparish.ie/event/christmas-carol-service/
END:VEVENT
BEGIN:VEVENT
DTSTART;TZID=UTC:20191214T180000
DTEND;TZID=UTC:20191214T180000
DTSTAMP:20260421T144009
CREATED:20191218T144435Z
LAST-MODIFIED:20191218T144436Z
UID:10000001-1576346400-1576346400@abbeyleixparish.ie
SUMMARY:Penitential Service
DESCRIPTION:Church of the Most Holy Rosary
URL:https://abbeyleixparish.ie/event/penitential-service/
END:VEVENT
BEGIN:VEVENT
DTSTART;TZID=UTC:20191208T093000
DTEND;TZID=UTC:20191208T093000
DTSTAMP:20260421T144009
CREATED:20191218T144147Z
LAST-MODIFIED:20191218T150301Z
UID:10000005-1575797400-1575797400@abbeyleixparish.ie
SUMMARY:Advent Mass for First Holy Communion & Confirmation Children\, Ballyroan
DESCRIPTION:St Patricks\, Ballyroan. \nMass in celebration of Advent for Confirmation and First Holy Communion children.
URL:https://abbeyleixparish.ie/event/advent-mass-for-first-holy-communion-confirmation-children-ballyroan/
END:VEVENT
BEGIN:VEVENT
DTSTART;TZID=UTC:20191207T180000
DTEND;TZID=UTC:20191207T180000
DTSTAMP:20260421T144009
CREATED:20191218T143749Z
LAST-MODIFIED:20191218T150312Z
UID:10000004-1575741600-1575741600@abbeyleixparish.ie
SUMMARY:Advent Mass for First Holy Communion & Confirmation Children\, Abbeyleix
DESCRIPTION:Church of the Most Holy Rosary\, Abbeyleix. \nMass in celebration of Advent for Confirmation and First Holy Communion children.
URL:https://abbeyleixparish.ie/event/advent-mass-for-first-holy-communion-confirmation-children-abbeyleix/
END:VEVENT
BEGIN:VEVENT
DTSTART;TZID=UTC:20191207T170000
DTEND;TZID=UTC:20191207T170000
DTSTAMP:20260421T144009
CREATED:20191218T145731Z
LAST-MODIFIED:20191218T145928Z
UID:10000009-1575738000-1575738000@abbeyleixparish.ie
SUMMARY:Abbeyleix Christmas Lights 2019
DESCRIPTION:The official turning on of Abbeyleix Christmas Lights
URL:https://abbeyleixparish.ie/event/abbeyleix-christmas-lights-2019/
END:VEVENT
END:VCALENDAR